BEGIN:VCALENDAR
VERSION:2.0
PRODID:icalendar-ruby
CALSCALE:GREGORIAN
BEGIN:VEVENT
DTSTAMP:20260425T103506Z
UID:88b2744b-ab80-489f-a3d5-93c67fb2a5b1
DTSTART:20260607T110000
DTEND:20260607T180000
DESCRIPTION:ldfl. Meter   für Trödel  = 10\,- € und Neuware  = 15\,
 - €\n \nPlatzvergabe ist immer samtags von 18.00-19.00 Uhr vor Ort oder
  sonntag Morgen von 6.00-8.00 Uhr
LOCATION:Hanns-Martin-Schleyer-Straße 1 51503 Rösrath
SUMMARY:OBI-Baumarkt Rösrath 
END:VEVENT
END:VCALENDAR
