BEGIN:VCALENDAR
VERSION:2.0
PRODID:icalendar-ruby
CALSCALE:GREGORIAN
BEGIN:VEVENT
DTSTAMP:20260420T090050Z
UID:e0e628cb-9a9f-4d6c-bd9f-79c11dab337c
DTSTART:20260514T060000
DTEND:20260514T170000
DESCRIPTION:Enkler - Einer der günstigsten Veranstalter Süddeutschlands. 
 Bekannt für gutbesuchte und umsatzstarke Floh-\, Trödel-\, Sammler- und 
 Jahrmärkte in Ihrer Nähe. Bekannt und bewährt seit über 15 Jahren!!!\n
 Weitere Infos unter: www.markt-enkler.de\nGerne beantworten wir Ihre Frage
 n\, schreiben Sie uns einfach eine Email:\nenklers-maerkte@web.de\n 
LOCATION:Langenwiesengraben 3 97232 Giebelstadt
SUMMARY:Giebelstadt REWE Parkplatz
END:VEVENT
END:VCALENDAR
