BEGIN:VCALENDAR
VERSION:2.0
PRODID:icalendar-ruby
CALSCALE:GREGORIAN
BEGIN:VEVENT
DTSTAMP:20260423T162817Z
UID:1aeaab2a-1692-4e4f-b17a-95a4665069a0
DTSTART:20260607T060000
DTEND:20260607T170000
DESCRIPTION:Enkler - Einer der günstigsten Veranstalter Süddeutschlands. 
 Bekannt für gutbesuchte und umsatzstarke Floh-\, Trödel-\, Sammler- und 
 Jahrmärkte in Ihrer Nähe. Bekannt und bewährt seit über 15 Jahren!!!\n
 \nWeitere Infos unter: \nwww.markt-enkler.de\n\nGerne beantworten wir Ihre
  Fragen\, schreiben Sie uns einfach eine Email:\nenklers-maerkte@web.de\n
  
LOCATION:Marktbreiter Straße 54 97199 Ochsenfurt
SUMMARY:Parkplatz REWE
END:VEVENT
END:VCALENDAR
