BEGIN:VCALENDAR
VERSION:2.0
PRODID:icalendar-ruby
CALSCALE:GREGORIAN
BEGIN:VEVENT
DTSTAMP:20260424T113457Z
UID:1fd32509-6d33-4c27-8e37-5dc397100108
DTSTART:20260607T060000
DTEND:20260607T170000
DESCRIPTION:Enkler - Einer der günstigsten Veranstalter Süddeutschlands. 
 Bekannt für gutbesuchte und umsatzstarke Floh-\, Trödel-\, Sammler- und 
 Jahrmärkte in Ihrer Nähe. Bekannt und bewährt seit über 30 Jahren!!!We
 itere Infos unter: www.markt-enkler.deGerne beantworten wir Ihre Fragen\, 
 schreiben Sie uns einfach eine Email:enklers-maerkte@web.de
LOCATION:Innenstadt 91732 
SUMMARY:Innenstadt
END:VEVENT
END:VCALENDAR
