BEGIN:VCALENDAR
VERSION:2.0
PRODID:icalendar-ruby
CALSCALE:GREGORIAN
BEGIN:VEVENT
DTSTAMP:20260423T202526Z
UID:19795d4b-86d6-4042-95a2-f8c93dacccec
DTSTART:20260613T120000
DTEND:20260613T180000
DESCRIPTION:Enkler - Einer der günstigsten Veranstalter Süddeutschlands. 
 Bekannt für gutbesuchte und umsatzstarke Floh-\, Trödel-\, Sammler- und 
 Jahrmärkte in Ihrer Nähe. Bekannt und bewährt seit über 15 Jahren!!!We
 itere Infos auf unserer HomepageGerne beantworten wir Ihre Fragen\, schrei
 ben Sie uns einfach eine Email:
LOCATION:Am Eichelberg 2 91567 Herrieden
SUMMARY:Autohof A6 Herrieden
END:VEVENT
END:VCALENDAR
