BEGIN:VCALENDAR
VERSION:2.0
PRODID:icalendar-ruby
CALSCALE:GREGORIAN
BEGIN:VEVENT
DTSTAMP:20260423T015257Z
UID:a54f0ccc-f525-4453-90b6-f2457fdadd2e
DTSTART:20260614T060000
DTEND:20260614T170000
DESCRIPTION:Enkler - Einer der günstigsten Veranstalter Süddeutschlands. 
 Bekannt für gutbesuchte und umsatzstarke Floh-\, Trödel-\, Sammler- und 
 Jahrmärkte in Ihrer Nähe. Bekannt und bewährt seit über 25 Jahren!!!We
 itere Infos unter: www.markt-enkler.deGerne beantworten wir Ihre Fragen\, 
 schreiben Sie uns einfach eine Email:enklers-maerkte@web.de 
LOCATION:Am Eichelberg 2 91567 Herrieden
SUMMARY:Autohof A6 Herrieden
END:VEVENT
END:VCALENDAR
