BEGIN:VCALENDAR
VERSION:2.0
PRODID:icalendar-ruby
CALSCALE:GREGORIAN
BEGIN:VEVENT
DTSTAMP:20260421T152815Z
UID:d8361435-b967-4d2c-ae44-fb94dcde148c
DTSTART:20260501T060000
DTEND:20260501T170000
DESCRIPTION:Enkler - Einer der günstigsten Veranstalter Süddeutschlands. 
 Bekannt für gutbesuchte und umsatzstarke Floh-\, Trödel-\, Sammler- und 
 Jahrmärkte in Ihrer Nähe. Bekannt und bewährt seit über 15 Jahren!!!\n
 \nWeitere Infos unter: \nwww.markt-enkler.de\n\nGerne beantworten wir Ihre
  Fragen\, schreiben Sie uns einfach eine Email:\nenklers-maerkte@web.de\n
  
LOCATION:Innenstadt 91183 
SUMMARY:Innenstadt
END:VEVENT
END:VCALENDAR
