BEGIN:VCALENDAR
VERSION:2.0
PRODID:icalendar-ruby
CALSCALE:GREGORIAN
BEGIN:VEVENT
DTSTAMP:20260423T205807Z
UID:ae29f80d-9807-4456-a6d9-dbfd660b9038
DTSTART:20260604T060000
DTEND:20260604T170000
DESCRIPTION:Enkler - Einer der günstigsten Veranstalter Süddeutschlands. 
 Bekannt für gutbesuchte und umsatzstarke Floh-\, Trödel-\, Sammler- und 
 Jahrmärkte in Ihrer Nähe. Bekannt und bewährt seit über 15 Jahren!!!\n
 \nWeitere Infos unter: \nwww.markt-enkler.de\n\nGerne beantworten wir Ihre
  Fragen\, schreiben Sie uns einfach eine Email:\nenklers-maerkte@web.de\n
  
LOCATION:Am Sportplatz 2 89362 Offingen
SUMMARY:Parkplatz E-Center
END:VEVENT
END:VCALENDAR
