BEGIN:VCALENDAR
VERSION:2.0
PRODID:icalendar-ruby
CALSCALE:GREGORIAN
BEGIN:VEVENT
DTSTAMP:20260420T100209Z
UID:7de13b58-5c86-4692-ad3b-8fb74c9889dc
DTSTART:20260521T070000
DTEND:20260521T160000
DESCRIPTION:Flohmarkt findet wieder wie gewont auf dem alten Platz statt !!
 \n lfm 9\,-€ ( bei Vorkasse nur 8\,-€ je meter )mit Auto ab 2 meter a
 m Stand !!! wenn man aber zum Beispiel 5m aufbaut\, muss man 5 m bezahlen 
 !\nAufbau ab 6 Uhr \, keine Anmeldung \, einfach kommen\nOhne Auto auch ei
 n oder zwei meter Stände möglich \, \nvor dem Aufbau beim Flohmarktveran
 stalter melden! 
LOCATION:Neuer Markt 1 78052 Weilersbach
SUMMARY:Parkplatz Schwarzwald-Baar-Center Villingen
END:VEVENT
END:VCALENDAR
