BEGIN:VCALENDAR
VERSION:2.0
PRODID:icalendar-ruby
CALSCALE:GREGORIAN
BEGIN:VEVENT
DTSTAMP:20260424T011949Z
UID:45236481-3a6e-46a9-93e9-5024a062bba5
DTSTART:20260614T080000
DTEND:20260614T160000
DESCRIPTION:Enkler - Einer der günstigsten Veranstalter Süddeutschlands. 
 Bekannt für gutbesuchte und umsatzstarke Floh-\, Trödel-\, Sammler- und 
 Jahrmärkte in Ihrer Nähe. Bekannt und bewährt seit über 25 Jahren!!!We
 itere Infos unter: www.markt-enkler.deGerne beantworten wir Ihre Fragen\, 
 schreiben Sie uns einfach eine Email:enklers-maerkte@web.de 
LOCATION:Am Falbenholzweg 15 91126 
SUMMARY:Schwabach Einkaufszentrum ORO Parkplatz
END:VEVENT
END:VCALENDAR
