BEGIN:VCALENDAR
VERSION:2.0
PRODID:icalendar-ruby
CALSCALE:GREGORIAN
BEGIN:VEVENT
DTSTAMP:20260421T063907Z
UID:76ebfede-6e29-4085-90ef-54b3d5e9ebbc
DTSTART:20260926T060000
DTEND:20260926T140000
DESCRIPTION:FEIERTAGSMÄRKTE 2026:\n06.04.26 - Montag / Ostermontag\n01.05.
 26 - Freitag / Tag der Arbeit\n14.05.26 - Donnerstag / Christi Himmelfahrt
 \n25.05.26 - Montag / Pfingstmontag\n04.06.26 - Donnerstag / Fronleichnam\
 n03.10.26 - Samstag/ Tag der Deutschen Einheit\n \nJEDEN SAMSTAG UND DIEN
 STAG!\n \nJeden Dienstag und jeden Samstag!\nPARKPLATZ D3 (direkt gegen
 über Gelsenwasser\, Burger King\, Esso und Roller)\nUnd so kommen Sie zu 
 uns:\nVon der Autobahn A2 (Ausfahrt GE-Buer) biegen Sie im Kreisverkehr r
 echts ab. An der nächsten Ampel biegen Sie rechts ab. Sie befinden sich j
 etzt auf der Adenauerallee. An der nächsten großen Kreuzung\, am Kinocen
 ter\, biegen Sie wieder rechst ab\, auf die Willi-Brandt-Allee.\nVon der A
 utobahn A42 (Ausfahrt GE-Zentrum) - Richtung Horst - biegen Sie von der G
 rothusstr. rechts in die Uferstr. An der dritten Ampel biegen Sie links ab
 . Sie befinden sich jetzt auf der Kurt-Schumacher-Str. Die nächste Mögli
 che biegen Sie rechts in die Willi-Brandt-Allee ab.\nWICHTIGE INFORMATION
 : \n Leider ist Schalke in die 2. Liga abgestiegen und wird samstags desö
 fteren um 13.00 Uhr spielen. Bei Heimspielen des FC Schalke 04 an einem Sa
 mstag um 13.00 Uhr fällt somit der Markt aus. Wir versuchen aber immer ku
 rzfristig auf den Sonntag auszuweichen\, falls es uns ermöglicht wird. Be
 i zusätzlichen Veranstaltungen in der Arena kann das Verkaufsende zudem v
 ariieren!!! DESWEGEN: Besuchen Sie unsere Homepage unter www.gigantmarkt.d
 e im Internet ! Dort finden Sie die aktuellen Verkaufszeiten und Termine d
 er Sondermärkte!
LOCATION:Willy Brandt Allee 49 45891 Gelsenkirchen
SUMMARY:Veltins Arena (Parkplatz D3) - Schalke
END:VEVENT
END:VCALENDAR
