BEGIN:VCALENDAR
VERSION:2.0
PRODID:icalendar-ruby
CALSCALE:GREGORIAN
BEGIN:VEVENT
DTSTAMP:20260425T113426Z
UID:7ae39c2c-68d5-4bcb-95de-5f30708b7a5f
DTSTART:20261003T143000
DTEND:20261003T180000
DESCRIPTION:Achtung: Jeder kann an dieser Veranstaltung teilnehmen. \nPlat
 zvergabe ab 13:00 Uhr Achtung keine Anfahrt auf dem Gelände vor 13 Uhr m
 öglich.Trödel bis 4 Meter 20 Euro . Neuwaren ( auf Anfrage) pro Meter 1
 0 Euro.\nAchtung: Keine Anmeldung erforderlich einfach kommenDer trockenst
 e Samstagsflohmarkt der Pfalz - wettergeschützt\, ob es hagelt\, regnet\,
  schneit oder Hitze ist !Viele Besucher super Verkauf www.wochenflohmarkt
 .de - deine Anlaufstelle\, um werktags Flohmarktflair zu erleben!\nInfo :
   info@kultflohmarkt.de\nAchtung: Der Samstagsmarkt findet nicht an Feier
 tagen statt!!!!!!!!!
LOCATION:Johannes Kopp Straße 10 76829 Queichheim
SUMMARY:Überdachter Mittagsflohmarkt am C&amp\;C Markt Landau
END:VEVENT
END:VCALENDAR
