BEGIN:VCALENDAR
VERSION:2.0
PRODID:icalendar-ruby
CALSCALE:GREGORIAN
BEGIN:VEVENT
DTSTAMP:20260424T084941Z
UID:a37b86c6-9097-48bb-a509-5a11e2c6f933
DTSTART:20260501T090000
DTEND:20260501T150000
DESCRIPTION:Dresdens größter und schönster regelmäßiger Antik- und Tr
 ödelmarkt!  Standaufbau ab 7 uhr - einfach kommen!  3 Meter mit Auto am
  Stand nur 20 Euro Standgebühr\, oder 10 Meter nur 45 €! Bitte unter ww
 w.flohmarkt-sachsen.de anmelden!! \nDresdens Kunst-\, Antik- und Trödelm
 arkt findet regelmäßig jeden Samstag und am ersten Sonntag im Monat von 
 9 bis 15 Uhr (Sonntags bis 16 Uhr) statt. Auf einem riesigen Gelände nahe
  des Dresdner Zwingers\, gegenüber des Kongresszentrums und des MARITIM H
 otels\, können ca. 100 Händler aus den Bereichen Antiquitäten\, Kunst u
 nd niveauvoller Trödel Platz finden. Spielzeug und Kindersachen erlaubt! 
 Bei günstigen Standgebühren kann auch das Auto am Stand bleiben. Standau
 fbau ab 7 Uhr. Reservierungen sind nicht notwendig. Neuware ist nicht erla
 ubt\, Gastronomie nur nach vorherigem Vertrag. Zufahrt über die Devrients
 traße 9 (dies ist die kleine Straße\, welche von der Marienbrücke zur B
 6 führt). Einfahrt an der Schranke Diese wird ab 7.00 bis 8.30 Uhr für H
 ändler geöffnet. Frühzeitigeres Auf- und Abbauen ist nicht möglich und
  auch nicht gewollt.\nStandgebühr: 3 Meter 20 Euro - mit Auto am Stand\, 
 oder 10 Meter 45 Euro\, Neuware + 10 Euro. Weitere Größen siehe Webseite
 . Kostenfreie ordentliche WCs im Haus der Presse\, derzeit jedoch vorüber
 gehend toitois. Eintritt frei. \nDer Markt wird über Werbung in Tageszei
 tungen (Sächsische Zeitung\, Morgenpost)\, Runkfunkwerbung und Plakatwerb
 ung beworben. Regelmäßige Sonderaktionen der Sächsischen Zeitung\, z. B
 . Ausstellungen und Tag der offenen Dachterrasse. Umfangreiche Gastronomie
  vorhanden.\nLeihständer (3 Meter breit\, mit Sonnenschutz-Dach 20 Euro z
 uzüglich STandgebühr\, oder nur Stand ohne Dach 10 Euro zuzüglich Stand
 gebühr - unter 0172-6833633 reservieren - Herr Seike).\nBeachten Sie bitt
 e die Teilnahmebedingungen auf unserer Webseite.\nVeranstalter: DDV Sachse
 n GmbH
LOCATION:Devrientstraße 9 01067 Altstadt
SUMMARY:Kunst-\, Antik- und Trödelmarkt am Haus der Presse Dresden-Zentrum
END:VEVENT
END:VCALENDAR
