BEGIN:VCALENDAR
VERSION:2.0
PRODID:icalendar-ruby
CALSCALE:GREGORIAN
BEGIN:VEVENT
DTSTAMP:20260422T071725Z
UID:c2a5033f-b82c-4159-b5b9-614199e63d9c
DTSTART:20261025T110000
DTEND:20261025T170000
DESCRIPTION:Großer Flohmarkt zum Stadtbrunnenfest und verkaufsoffenen Sonn
 tag  von 12-17 Uhr in Wolfach an der Kinzig in der Dammstraße.\nTraditio
 neller Großer Flohmarkt zum Floßhafenfest Samstag\, von 8-16 Uhr in Wolf
 ach an der Kinzig und in der Dammstraße (beidseitig - alle 2 Jahre).\nGro
 ßer Flohmarkt am Sonntag zum Wolfacher Herbst und verkaufsoffenen Sonntag
  von 12-17 Uhr an der Kinzig in der Dammstraße.\n \nKein Auto am Stand.\
 nStandmiete: lfdm. 10\,-€   Anmeldung erforderlich. \nAufbau Samstags
  ab 6 Uhr\nAufbau Sonntags ab 9 Uhr.\n \n 
LOCATION:Dammstraße 77709 Wolfach
SUMMARY:Kinzigdammstraße
END:VEVENT
END:VCALENDAR
