BEGIN:VCALENDAR
VERSION:2.0
PRODID:icalendar-ruby
CALSCALE:GREGORIAN
BEGIN:VEVENT
DTSTAMP:20260420T184315Z
UID:a7cf237f-c92f-4870-9909-be3d1aa753a1
DTSTART:20260714T090000
DTEND:20260714T160000
DESCRIPTION:Flohmarkt in der schönen historischen Altstadt von Gengenbach 
 im Schwarzwald.\nKein Auto am Stand. Neuware verboten. Anmeldung ist erfor
 derlich.\nAufbau nicht vor 7 Uhr.       Standmiete: lfdm. 10\,-€\n
 günstige Parkplätze sin ausreichend vorhanden.\n \n \n \n 
LOCATION:Victor Kretz Straße 2 77723 Gengenbach
SUMMARY:Marktplatz
END:VEVENT
END:VCALENDAR
