BEGIN:VCALENDAR
VERSION:2.0
PRODID:icalendar-ruby
CALSCALE:GREGORIAN
BEGIN:VEVENT
DTSTAMP:20260420T165349Z
UID:302078dd-4ef3-454c-83b9-f903d8de8434
DTSTART:20260811T090000
DTEND:20260811T160000
DESCRIPTION:Flohmarkt in der schönen historischen Altstadt von Gengenbach 
 im Schwarzwald.\nKein Auto am Stand. Neuware verboten. Anmeldung ist erfor
 derlich.\nAufbau nicht vor 7 Uhr.       Standmiete: lfdm. 10\,-€\n
 günstige Parkplätze sin ausreichend vorhanden.\n \n \n \n 
LOCATION:Victor Kretz Straße 2 77723 Gengenbach
SUMMARY:Marktplatz
END:VEVENT
END:VCALENDAR
