BEGIN:VCALENDAR
VERSION:2.0
PRODID:icalendar-ruby
CALSCALE:GREGORIAN
BEGIN:VEVENT
DTSTAMP:20260420T090200Z
UID:e4573089-9ee9-45d8-85ed-d278a379bb4e
DTSTART:20260829T080000
DTEND:20260829T160000
DESCRIPTION:Flohmarkt in der Innenstadt zum Stadtfest von Bad Wurzach. Einf
 ahrt über die Schulstrasse.\nEinfahrt NICHT VOR 6 UhrVoraussichtlich kein
 e Autos am Stand !!!Bitte beachten sie\, dass das Formular "Kontakt &amp\;
  Buchungsanfrage" KEINE Reservierung darstellt. Verbindliche  Reservierun
 gen nehmen wir unter www.nmv-marktagentur.de direkt in der Veranstaltung e
 ntgegen. Gerne können sie natürlich auch ohne Reservierung auf unsere F
 lohmärkte kommen.\nDer laufende Frontmeter Trödel- und Gebrauchtwaren ko
 stet 10 € (Vorkasse 9 €)\, Kleiderständer 3 €\, Neuware 12 € (Vor
 kasse 10 €)\nSamstag: Aufbau ab 08.00 Uhr\, Verkauf von 08.00 bis 16.00 
 UhrSonntag: Aufbau ab 10.00 Uhr\, Verkauf von 12.00 bis 17.00 Uhr
LOCATION:Marktstraße  88410 
SUMMARY:2-tägiger Flohmarkt zum Stadtfest
END:VEVENT
END:VCALENDAR
