BEGIN:VCALENDAR
VERSION:2.0
PRODID:icalendar-ruby
CALSCALE:GREGORIAN
BEGIN:VEVENT
DTSTAMP:20260421T084650Z
UID:2f1bbd66-c6ad-4648-bb45-aa5b033e6860
DTSTART:20260502T080000
DTEND:20260502T160000
DESCRIPTION:Reservierungen sind unter www.nmv-marktagentur.de möglich ! Da
 s "Buchungs- und Kontaktformular bei marktcom dient lediglich zur Kontakta
 ufnahme und für Fragen !!Bitte beachten sie\, dass das Formular "Kontakt 
 &amp\; Buchungsanfrage" KEINE Reservierung darstellt. Reservierungen nehme
 n wir gerne unter www.nmv-marktagentur.de entgegen. Annahmeschluss ist fü
 r Wochenendmärkte jeweils Freitag 16.00 Uhr\, Für Flohmärkte unter der 
 Woche jeweils 16.00 Uhr am Vortag.\n2-tägiger Flohmarkt auf dem Festplatz
 Aufbau ab 7.00\, Verkauf von 8.00 bis 16.00 UhrPreise: Der laufende Frontm
 eter Trödel- und Gebrauchtwaren kostet 9 € (Vorkasse)\, 10 € (Bezahlu
 ng vor Ort) Kleiderständer 3 €\, Neuware 10 € (Vorkasse)\, 12 € (Be
 zahlung vor Ort)
LOCATION:Benzstraße 26 71083 
SUMMARY:Flohmarkt auf dem Festplatz
END:VEVENT
END:VCALENDAR
