BEGIN:VCALENDAR
VERSION:2.0
PRODID:icalendar-ruby
CALSCALE:GREGORIAN
BEGIN:VEVENT
DTSTAMP:20260423T163354Z
UID:8d095475-0433-4692-b34a-ca9e71867245
DTSTART:20260607T070000
DTEND:20260607T160000
DESCRIPTION:Enkler - Einer der günstigsten Veranstalter Süddeutschlands. 
 Bekannt für gutbesuchte und umsatzstarke Floh-\, Trödel-\, Sammler- und 
 Jahrmärkte in Ihrer Nähe. Bekannt und bewährt seit über 15 Jahren!!!\n
 \nWeitere Infos unter: \nwww.markt-enkler.de\n\nGerne beantworten wir Ihre
  Fragen\, schreiben Sie uns einfach eine Email:\nenklers-maerkte@web.de
LOCATION:Innenstadt 91555 
SUMMARY:Innenstadt
END:VEVENT
END:VCALENDAR
