BEGIN:VCALENDAR
VERSION:2.0
PRODID:icalendar-ruby
CALSCALE:GREGORIAN
BEGIN:VEVENT
DTSTAMP:20260420T104722Z
UID:ee37643b-d3d3-49e9-bc50-17ad501a2474
DTSTART:20260503T063000
DTEND:20260503T160000
DESCRIPTION:Unsere Preise:\nTrödel 8\,00 €/m    \nNeuware 10\,00 €/m
 \nder Markt ist voll Überdacht\n 
LOCATION:Bahnhofstraße 47 21614 Eilendorf
SUMMARY: Marktkauf\, Buxtehude
END:VEVENT
END:VCALENDAR
