BEGIN:VCALENDAR
VERSION:2.0
PRODID:icalendar-ruby
CALSCALE:GREGORIAN
BEGIN:VEVENT
DTSTAMP:20260425T030225Z
UID:a14517da-3020-4998-a8f8-ba9c6b0e1508
DTSTART:20261206T110000
DTEND:20261206T180000
DESCRIPTION:Wir freuen uns\, dass wir Ihr Interesse an unseren Märkten wec
 ken konnten. Seit 1980 sind wir eines der führenden Veranstaltungsunterne
 hmen im Großraum Aachen. Zahlreiche Städte\, Verwaltungen und namhafte H
 äuser schenken uns Ihr Vetrauen und schätzen unseren professionellen Abl
 auf.\nAusgwählte Veranstaltungsplätze\, stets der Situation angepasste A
 ufbauweise\, keine Hinterhöfe\, Ecken\, Nischen oder B Plazierungen\, st
 ets freundlich\, kompetent und hilfsbereit.\n\nNeu Nutzten Sie unsere Leih
 pavillons. Stabile\, schöne Zelte schützen Sie vor Wind und Wetter\, Son
 ne und im schlechtesten Fall vor Regen. 3*3m incl. Auf- &amp\; Abbau nur 1
 0.-\, in 4\,50*3m nur 15.- und 6*3m nur 20.-\nBamberger Märkte seit 30 Ja
 hren der Begriff für Trödelmärkte in der Euregio\nRiesen Werbung\nAnzei
 gen in den Fachzeitschriften und der lokalen Presse\n200 DIN A1 Plakate\n
 stets vor Ort: gepfelegte Gastronomie über Imbiss\, Cafeteria\, Suppen\, 
 Nudelgerichte\, Waffeln\, Pfannkuchen\, Crepes\, Eis\,\,\,\,\,\nPreise dau
 erhaft günstig!\nRabatte für Dauerbucher\nPlätze stets Nummeriert und n
 ie Doppelt belegt\nStammplätze für unsere Profis\nTrödel 10.-\nAngebot:
  5m Trödel nur 40.-\nNeuware 15.-\nAngebot: 5m Neuware nur 60.-\nkeine Gr
 undgebühr\nDachzuschlag 2.-/m\nStromanschlüße stets vorhanden\nJahresve
 rtrag für Eis zu vergeben\nPlatzvergabe Samstag von 15.-18.00\nSonntag v
 on 6.-10.00\n\n \nbamberger märktejakob bambergerstich 13452249 eschweil
 ertel: 02403-10115mobil: 0172-2385947www.toni-bamberger.debamberger.maer
 kte@t-online.debuchungen per sms &amp\; whatsapp ebenfalls möglich
LOCATION:Dürener Straße 200 52249 
SUMMARY:Eschweiler HIT
END:VEVENT
END:VCALENDAR
