BEGIN:VCALENDAR
VERSION:2.0
PRODID:icalendar-ruby
CALSCALE:GREGORIAN
BEGIN:VEVENT
DTSTAMP:20260424T034152Z
UID:80a4a8ec-0b6c-4ec8-8684-fde79a4f8718
DTSTART:20260502T080000
DTEND:20260502T150000
DESCRIPTION:Der Flohmarkt findet auf der Wiese vor dem Baumarkt statt.\n\nD
 ie Wiese ist kultiviert\, was auf dem älteren Satelitenbild nicht erkennb
 ar ist.\n\nDer Flohmarkt ist eingeführt und hat eine gute Resonanz\n\nlfd
 /m kostet 8\,-- Euro\n\nAuto am Stand.\n\naufgrund der Nachfrage bitte fr
 ühzeitig 6.00-7.00 Uhr erscheinen\n\nImbiss und WC im Baumarkt. (Öffnet 
 um 8.oo Uhr)\n\nNeuware nur in Verbindung mit Flohmarktartikeln\n\n \n\n
  \n
LOCATION:Friedrich List Straße 14 72488 Sigmaringen
SUMMARY:TOOM Baumarkt
END:VEVENT
END:VCALENDAR
