BEGIN:VCALENDAR
VERSION:2.0
PRODID:icalendar-ruby
CALSCALE:GREGORIAN
BEGIN:VEVENT
DTSTAMP:20260420T094022Z
UID:68ecbf18-1539-494c-bfa8-41f8e280948a
DTSTART:20260525T110000
DTEND:20260525T180000
DESCRIPTION: \nA 2  Abfahrt Castrop-Rauxel (Henrichenburg)    danach d
 er Beschilderung folgen\nPlatzvergabe am Vortag  zwischen  13 und 14 Uhr
      gegen Vorkasse     (keine Reservierungen per mail)\nTrödel   
     10 EURO  lfd. mtr\nNeuware   15 EURO  lfd. mtr\nGrundgebühr  
 5 EURO\n \n 
LOCATION:Schachtstraße 6 45711 Datteln
SUMMARY:EDEKA - Datteln
END:VEVENT
END:VCALENDAR
