BEGIN:VCALENDAR
VERSION:2.0
PRODID:icalendar-ruby
CALSCALE:GREGORIAN
BEGIN:VEVENT
DTSTAMP:20260420T080453Z
UID:12c8d689-5eb1-4624-a660-726a9a8d6309
DTSTART:20260927T110000
DTEND:20260927T180000
DESCRIPTION: \nA 2  Abfahrt Castrop-Rauxel (Henrichenburg)    danach d
 er Beschilderung folgen\nPlatzvergabe am Vortag  zwischen  13 und 14 Uhr
      gegen Vorkasse     (keine Reservierungen per mail)\nTrödel   
     10 EURO  lfd. mtr\nNeuware   15 EURO  lfd. mtr\nGrundgebühr  
 5 EURO\n \n 
LOCATION:Schachtstraße 6 45711 Datteln
SUMMARY:EDEKA - Datteln
END:VEVENT
END:VCALENDAR
