BEGIN:VCALENDAR
VERSION:2.0
PRODID:icalendar-ruby
CALSCALE:GREGORIAN
BEGIN:VEVENT
DTSTAMP:20260423T214950Z
UID:2b01705e-739a-4c34-88a6-67f4bb29e948
DTSTART:20260604T060000
DTEND:20260604T170000
DESCRIPTION:Enkler - Einer der günstigsten Veranstalter Süddeutschlands. 
 Bekannt für gutbesuchte und umsatzstarke Floh-\, Trödel-\, Sammler- und 
 Jahrmärkte in Ihrer Nähe. Bekannt und bewährt seit über 15 Jahren!!!\n
 \nWeitere Infos unter: \nwww.markt-enkler.de\n\nGerne beantworten wir Ihre
  Fragen\, schreiben Sie uns einfach eine Email:\nenklers-maerkte@web.de
LOCATION:Rothenburger Straße 4 91438 Bad Windsheim
SUMMARY:Parkplatz Kaufland
END:VEVENT
END:VCALENDAR
