BEGIN:VCALENDAR
VERSION:2.0
PRODID:icalendar-ruby
CALSCALE:GREGORIAN
BEGIN:VEVENT
DTSTAMP:20260424T221747Z
UID:bcc79e6f-01c6-41e4-ba5f-0cb36f4b7a05
DTSTART:20260719T110000
DTEND:20260719T180000
DESCRIPTION:A 2  Abfahrt  Castrop-Rauxel  Henrichenburg      oder 
      A 42  Abfahrt  Castrop-Rauxel\n der Beschilderung folgen\nPlat
 zvergabe am Vortag  13 -14 Uhr gegen Vorkasse   (keine Reservierung per 
 Mail)\nTrödel   lfd. mtr.     10 EURO        \nNeuware   l
 fd. mtr.   15  EURO\nGrundgebühr  5 EURO\n \n \n \n 
LOCATION:Siemensstraße 11 44579 Habinghorst
SUMMARY:MÖBEL BOSS
END:VEVENT
END:VCALENDAR
