BEGIN:VCALENDAR
VERSION:2.0
PRODID:icalendar-ruby
CALSCALE:GREGORIAN
BEGIN:VEVENT
DTSTAMP:20260424T000910Z
UID:4dfa0f0c-1068-4b89-8a38-782967af519c
DTSTART:20260830T100000
DTEND:20260830T180000
DESCRIPTION:Wir freuen uns sehr\, Sie als Besucher auf dem Düsseldorfer He
 rbstfestival Schloss Eller vom 01. – 03. September 2023 begrüßen zu 
 dürfen.\nDas klassizistische Schloss Eller wurde von 2008 bis 2010 aufw
 ändig saniert und ist generell nicht für die Öffentlichkeit zugänglich
  – während des Herbstfestivals werden die Tore jedoch für Sie geöffne
 t. Über 100 Aussteller präsentieren Ihnen in den erstklassig restaurie
 rten Sälen sowie dem angrenzenden Schlosspark Exklusives für Haus und G
 arten. Das Angebot dieser exklusiven Veranstaltung umfasst kulinarische 
 Genüsse\, Wein\, Kunst\, Mode\, Schmuck\, Pflanzen\, Dekoratives\, Access
 oires und Lifestyle. Lassen Sie sich die Schönheit der Räumlichkeiten ni
 cht entgehen und genießen Sie unter anderem den traumhaften Prinzensaal
  oder den Salon von Prinzessin Luise.\nEin umfangreiches Rahmenprogramm
  rundet das Düsseldorfer Herbstfestival stimmungsvoll ab. Freuen Sie sic
 h auf angenehme Live-Musik im romantischen Schlosshof unter der großen 
 Platane bei einem gutem Glas Wein zu frischem Flammlachs.
LOCATION:Heidelberger Straße 42 40229 Stadtbezirk 8
SUMMARY:Herbstfestival Schloss Eller
END:VEVENT
END:VCALENDAR
