BEGIN:VCALENDAR
VERSION:2.0
PRODID:icalendar-ruby
CALSCALE:GREGORIAN
BEGIN:VEVENT
DTSTAMP:20260422T082147Z
UID:b81cc971-345c-4e7b-a8da-eef44e246167
DTSTART:20260829T080000
DTEND:20260829T153000
DESCRIPTION:Reservierungen nehmen wir unter www.nmv-marktagentur.de direkt 
 in der Veranstaltung entgegenGerne können sie natürlich auch ohne Reserv
 ierung auf unsere Flohmärkte kommen.\nDer laufende Frontmeter Trödel- un
 d Gebrauchtwaren kostet 10 € (Vorkasse 9 €)\, Kleiderständer 3 €\, 
 Neuware 12 € (Vorkasse 10 €)\nAufbau ab 7 Uhr\, Verkauf von 08.00 bis 
 15.30 Uhr
LOCATION:Lorcher Straße  73033 Faurndau
SUMMARY:Flohmarkt auf dem Gelände der EWS-Arena
END:VEVENT
END:VCALENDAR
