BEGIN:VCALENDAR
VERSION:2.0
PRODID:icalendar-ruby
CALSCALE:GREGORIAN
BEGIN:VEVENT
DTSTAMP:20260420T063311Z
UID:ac36c49d-3d53-44dc-8c1d-a04fd2674324
DTSTART:20261018T130000
DTEND:20261018T180000
DESCRIPTION:Bitte beachten sie\, dass das Formular "Kontakt &amp\; Buchungs
 anfrage" KEINE Reservierung darstellt. Verbindliche  Reservierungen nehme
 n wir unter www.nmv-marktagentur.de direkt in der Veranstaltung entgegen.
  Gerne können sie natürlich auch ohne Reservierung auf unsere Flohmärk
 te kommen.\nDer laufende Frontmeter Trödel- und Gebrauchtwaren kostet 10 
 € (Vorkasse 9 €)\, Kleiderständer 3 €\, Neuware 12 € (Vorkasse 10
  €)\nAufbau ab 10.00 Uhr\, Verkauf von 13.00 bis 18.00 Uhr
LOCATION:Rudolf-Diesel-Straße 28 78532 
SUMMARY:Sonntag-Flohmarkt auf dem Kaufland-Parkplatz
END:VEVENT
END:VCALENDAR
