BEGIN:VCALENDAR
VERSION:2.0
PRODID:icalendar-ruby
CALSCALE:GREGORIAN
BEGIN:VEVENT
DTSTAMP:20260425T131332Z
UID:dc9f036e-5190-419a-8e33-f5be5918bd80
DTSTART:20260510T110000
DTEND:20260510T180000
DESCRIPTION:
LOCATION:Jakobstraße 57 51465 
SUMMARY:OBI-Baumarkt 
END:VEVENT
END:VCALENDAR
