BEGIN:VCALENDAR
VERSION:2.0
PRODID:icalendar-ruby
CALSCALE:GREGORIAN
BEGIN:VEVENT
DTSTAMP:20260425T113900Z
UID:6b8385cb-1f4c-424f-87a7-b27411cfb704
DTSTART:20260712T110000
DTEND:20260712T180000
DESCRIPTION:
LOCATION:Jakobstraße 57 51465 
SUMMARY:OBI-Baumarkt 
END:VEVENT
END:VCALENDAR
