BEGIN:VCALENDAR
VERSION:2.0
PRODID:icalendar-ruby
CALSCALE:GREGORIAN
BEGIN:VEVENT
DTSTAMP:20260425T143022Z
UID:3c39d0fd-a8e0-4fac-83a0-fad0c00d02e7
DTSTART:20260816T110000
DTEND:20260816T180000
DESCRIPTION:
LOCATION:Jakobstraße 57 51465 
SUMMARY:OBI-Baumarkt 
END:VEVENT
END:VCALENDAR
