BEGIN:VCALENDAR
VERSION:2.0
PRODID:icalendar-ruby
CALSCALE:GREGORIAN
BEGIN:VEVENT
DTSTAMP:20260425T115905Z
UID:ff448abb-67fd-4ba7-ac69-f1ef14e47f6f
DTSTART:20260920T110000
DTEND:20260920T180000
DESCRIPTION:
LOCATION:Jakobstraße 57 51465 
SUMMARY:OBI-Baumarkt 
END:VEVENT
END:VCALENDAR
