BEGIN:VCALENDAR
VERSION:2.0
PRODID:icalendar-ruby
CALSCALE:GREGORIAN
BEGIN:VEVENT
DTSTAMP:20260425T131332Z
UID:3c0577b8-65df-4f0c-8273-bbb3d78edc98
DTSTART:20261018T110000
DTEND:20261018T180000
DESCRIPTION:
LOCATION:Jakobstraße 57 51465 
SUMMARY:OBI-Baumarkt 
END:VEVENT
END:VCALENDAR
