BEGIN:VCALENDAR
VERSION:2.0
PRODID:icalendar-ruby
CALSCALE:GREGORIAN
BEGIN:VEVENT
DTSTAMP:20260420T134716Z
UID:6042bf0f-456f-4c96-9b1e-4f8a527ab892
DTSTART:20260514T100000
DTEND:20260514T170000
DESCRIPTION:Großer FLOH- und TRÖDELMARKT\nzum Brunnenfest.   Aufbau na
 ch Straßensperrung ca. 8.30 Uhr\nAchtung : KEINE NEUWARE!!!!! \nPavillon
 s am Auto unerwünscht \, Wohnmobile nicht möglich\nTypischer Flohmarktch
 arakter\, ohne Neuware\, viele Besucher!\nAnmeldung nicht erforderlich!!!!
LOCATION:Hirschhorner Straße  64760 
SUMMARY:Viehmarktplatz\, Hirschhornerstr.
END:VEVENT
END:VCALENDAR
