BEGIN:VCALENDAR
VERSION:2.0
PRODID:icalendar-ruby
CALSCALE:GREGORIAN
BEGIN:VEVENT
DTSTAMP:20260423T143204Z
UID:77226e50-3acb-4c40-a950-5c006dbb8a4f
DTSTART:20260607T110000
DTEND:20260607T170000
DESCRIPTION: \nAuf dem Antik- und Trödelmarkt ist der Name Programm. Ob a
 ntike Möbelstücke\, Bücher von A-Z oder Kleidung für Jung und Alt.Hier
  findet man die einzigartigen Schätze\, welche man in den Geschäften ver
 geblich sucht. Kunsthandwerk ist gerne gesehen.\nKeine Neuware \nBuchungen
  grundsätzlich nur über www.bad-godesberg.info \nsowie weitere INFOS. \
 n 
LOCATION:Theaterplatz  53177 Bad Godesberg
SUMMARY:Antik- und Trödelmarkt Bad Godesberg Fußgängerzone
END:VEVENT
END:VCALENDAR
