BEGIN:VCALENDAR
VERSION:2.0
PRODID:icalendar-ruby
CALSCALE:GREGORIAN
BEGIN:VEVENT
DTSTAMP:20260423T124813Z
UID:7dc7964b-93ed-40df-8f3c-11a53128da9c
DTSTART:20260705T110000
DTEND:20260705T170000
DESCRIPTION: \nAuf dem Antik- und Trödelmarkt ist der Name Programm. Ob a
 ntike Möbelstücke\, Bücher von A-Z oder Kleidung für Jung und Alt.Hier
  findet man die einzigartigen Schätze\, welche man in den Geschäften ver
 geblich sucht. Kunsthandwerk ist gerne gesehen.\nKeine Neuware \nBuchungen
  grundsätzlich nur über www.bad-godesberg.info \nsowie weitere INFOS. \
 n 
LOCATION:Theaterplatz  53177 Bad Godesberg
SUMMARY:Antik- und Trödelmarkt Bad Godesberg Fußgängerzone
END:VEVENT
END:VCALENDAR
