BEGIN:VCALENDAR
VERSION:2.0
PRODID:icalendar-ruby
CALSCALE:GREGORIAN
BEGIN:VEVENT
DTSTAMP:20260425T111835Z
UID:c876a5a0-2faa-4f38-9d9b-4d41efa5b630
DTSTART:20260802T110000
DTEND:20260802T170000
DESCRIPTION: \nAuf dem Antik- und Trödelmarkt ist der Name Programm. Ob a
 ntike Möbelstücke\, Bücher von A-Z oder Kleidung für Jung und Alt.Hier
  findet man die einzigartigen Schätze\, welche man in den Geschäften ver
 geblich sucht. Kunsthandwerk ist gerne gesehen.\nKeine Neuware \nBuchungen
  grundsätzlich nur über www.bad-godesberg.info \nsowie weitere INFOS. \
 n 
LOCATION:Theaterplatz  53177 Bad Godesberg
SUMMARY:Antik- und Trödelmarkt Bad Godesberg Fußgängerzone
END:VEVENT
END:VCALENDAR
