BEGIN:VCALENDAR
VERSION:2.0
PRODID:icalendar-ruby
CALSCALE:GREGORIAN
BEGIN:VEVENT
DTSTAMP:20260423T142821Z
UID:27c54c76-a2ca-481f-8eb0-620184de50f0
DTSTART:20261101T110000
DTEND:20261101T170000
DESCRIPTION: \nAuf dem Antik- und Trödelmarkt ist der Name Programm. Ob a
 ntike Möbelstücke\, Bücher von A-Z oder Kleidung für Jung und Alt.Hier
  findet man die einzigartigen Schätze\, welche man in den Geschäften ver
 geblich sucht. Kunsthandwerk ist gerne gesehen.\nKeine Neuware \nBuchungen
  grundsätzlich nur über www.bad-godesberg.info \nsowie weitere INFOS. \
 n 
LOCATION:Theaterplatz  53177 Bad Godesberg
SUMMARY:Antik- und Trödelmarkt Bad Godesberg Fußgängerzone
END:VEVENT
END:VCALENDAR
