BEGIN:VCALENDAR
VERSION:2.0
PRODID:icalendar-ruby
CALSCALE:GREGORIAN
BEGIN:VEVENT
DTSTAMP:20260425T032822Z
UID:9e8708d7-c9e3-4aeb-bf7d-474a76866a48
DTSTART:20260620T090000
DTEND:20260620T160000
DESCRIPTION:Traditioneller zweitägiger großer Flohmarkt in der Innenstadt
  von Lorch zum Lorcher Löwenmarkt! Besucherstark! Jeder kann ohne Anmeldu
 ng mitmachen! Einfach vorbeikommen\, es gibt genug Platz für alle! Neuwar
 en sind nicht erlaubt!\nPlatzvergabe ab 7 Uhr morgens in der Gmünder Stra
 sse! Einfach dort hinkommen! Unser Mitarbeiter ist vor Ort und zeigt Ihnen
  Ihren Standplatz! (Sie können auch nur einen Tag teilnehmen!)\, Standmie
 te € 9\,- pro Meter! Bezahlung der Standmiete vor Ort! Auto kostenlos am
  Stand!\nBis dann!\nDer Markt findet bei jedem Wetter statt!\nTisch\, Stuh
 l\, Kleiderstange etc. bitte selbst mitbringen!\n \n \n \nJetzt neu: Be
 suche www.gerosflohmarkt.de und verkaufe kostenlos Deine Sachen online!\nG
 erosFlohmarkt.de - Flohmärkte und kostenlose Kleinanzeigen!
LOCATION:Gmünder Straße 6 73547 Lorch
SUMMARY:Lorch\, Gmünder Strasse (Innenstadt)\, großer zweitägiger Flohma
 rkt zum Löwenmarkt! Findet statt! Ohne Anmeldung! Ohne Termin! Einfach vo
 rbeikommen!
END:VEVENT
END:VCALENDAR
