BEGIN:VCALENDAR
VERSION:2.0
PRODID:icalendar-ruby
CALSCALE:GREGORIAN
BEGIN:VEVENT
DTSTAMP:20260424T085018Z
UID:8b80b9bb-db20-4d61-8a16-3e6a4185d2aa
DTSTART:20260501T090000
DTEND:20260501T160000
DESCRIPTION:Floh- und Trödelmarkt am wunderschönen Großen Teich in Alten
 burg.\nEntlang der Teichpromenade laden die Anbieter zum Bummeln\, Stöber
 n und natürlich Kaufen ein. Zu finden sind Antikwaren\, Sammlerartikel wi
 e Bücher\, Schallplatten\, Münzen\, Trödel\, große und kleine Schätzc
 hen und jede Menge gut gebrauchte Dinge.\nDa man auf dem Teich auch Boot f
 ahren und den Inselzoo besuchen kann\, ist dies ein Ausflugstipp für die 
 ganze Familie!\n 
LOCATION:Geschwister-Scholl-Straße 11 04600 
SUMMARY:Teichpromenade am Großen Teich
END:VEVENT
END:VCALENDAR
