BEGIN:VCALENDAR
VERSION:2.0
PRODID:icalendar-ruby
CALSCALE:GREGORIAN
BEGIN:VEVENT
DTSTAMP:20260422T081102Z
UID:569888db-e417-45e8-913a-1d8a4cf56877
DTSTART:20260502T090000
DTEND:20260502T160000
DESCRIPTION:Floh- und Trödelmarkt am wunderschönen Großen Teich in Alten
 burg.\nEntlang der Teichpromenade laden die Anbieter zum Bummeln\, Stöber
 n und natürlich Kaufen ein. Zu finden sind Antikwaren\, Sammlerartikel wi
 e Bücher\, Schallplatten\, Münzen\, Trödel\, große und kleine Schätzc
 hen und jede Menge gut gebrauchte Dinge.\nDa man auf dem Teich auch Boot f
 ahren und den Inselzoo besuchen kann\, ist dies ein Ausflugstipp für die 
 ganze Familie!\n 
LOCATION:Geschwister-Scholl-Straße 11 04600 
SUMMARY:Teichpromenade am Großen Teich
END:VEVENT
END:VCALENDAR
