BEGIN:VCALENDAR
VERSION:2.0
PRODID:icalendar-ruby
CALSCALE:GREGORIAN
BEGIN:VEVENT
DTSTAMP:20260424T084010Z
UID:fc13eb44-8eab-4150-9cff-37c423e4fa4e
DTSTART:20260503T090000
DTEND:20260503T160000
DESCRIPTION:Floh- und Trödelmarkt am wunderschönen Großen Teich in Alten
 burg.\nEntlang der Teichpromenade laden die Anbieter zum Bummeln\, Stöber
 n und natürlich Kaufen ein. Zu finden sind Antikwaren\, Sammlerartikel wi
 e Bücher\, Schallplatten\, Münzen\, Trödel\, große und kleine Schätzc
 hen und jede Menge gut gebrauchte Dinge.\nDa man auf dem Teich auch Boot f
 ahren und den Inselzoo besuchen kann\, ist dies ein Ausflugstipp für die 
 ganze Familie!\n 
LOCATION:Geschwister-Scholl-Straße 11 04600 
SUMMARY:Teichpromenade am Großen Teich
END:VEVENT
END:VCALENDAR
