BEGIN:VCALENDAR
VERSION:2.0
PRODID:icalendar-ruby
CALSCALE:GREGORIAN
BEGIN:VEVENT
DTSTAMP:20260425T215429Z
UID:e3c1a0bf-d283-45cb-add5-3fb5215f3bcc
DTSTART:20260628T110000
DTEND:20260628T170000
DESCRIPTION:großer gut besuchter Flohmarkt zum traditionellen Sommerfest d
 es Musikvereins! Jeder kann ohne Anmeldung mitmachen! Einfach vorbeikommen
 ! Es gibt genug Platz für alle! Platzvergabe ab 6 Uhr morgens! Ein Mitarb
 eiter zeigt Ihnen Ihren Standplatz! € 9\,- pro Meter! Bezahlung vor Ort!
  Fahrzeug kostenlos am Stand! \nGerne können Sie auch telefonisch: Tel. 
 0172- 7976002 oder per Mail: info@geros-flohmarkt.de Ihren Standplatz bequ
 em reservieren!\nBis dann!\nDer Markt findet bei jedem Wetter statt!\nTisc
 h\, Stuhl\, Kleiderstange etc. bitte selbst mitbringen!\n \n \n \nJetzt
  neu: Besuche www.gerosflohmarkt.de und verkaufe kostenlos Deine Sachen on
 line!\nGerosFlohmarkt.de - Flohmärkte und kostenlose Kleinanzeigen!
LOCATION:Schorndorfer Straße 40 73666 
SUMMARY:Baltmannsweiler\, Festplatz\, großer Flohmarkt! Findet statt! Ohne
  Voranmeldung! Einfach vorbeikommen!
END:VEVENT
END:VCALENDAR
