BEGIN:VCALENDAR
VERSION:2.0
PRODID:icalendar-ruby
CALSCALE:GREGORIAN
BEGIN:VEVENT
DTSTAMP:20260424T235429Z
UID:c1de3fff-8737-4c12-8c9a-3d757ab13b6d
DTSTART:20260606T090000
DTEND:20260606T160000
DESCRIPTION:Schöner\, großer Flohmarkt in Biberach! \nJeder kann ohne An
 meldung mitmachen! Einfach vorbeikommen! Es gibt genug Platz für alle! Pl
 atzvergabe ab 6 Uhr morgens! Ein Mitarbeiter zeigt Ihnen Ihren Standplatz!
  Standmiete € 9\,- pro Meter! Bezahlung der Standmiete vor Ort! Auto kos
 tenlos am Stand!\nTisch\, Stuhl\, Kleiderstange etc. bitte selbst mitbring
 en!\nDer Markt findet bei jedem Wetter statt!\nBis dann!\n \n \n \nJetz
 t neu: Besuche www.gerosflohmarkt.de und verkaufe kostenlos Deine Sachen o
 nline!\nGerosFlohmarkt.de - Flohmärkte und kostenlose Kleinanzeigen!
LOCATION:Jahnstraße 1 88400 
SUMMARY:Biberach\, Gigelberg\, Riesen- Flohmarkt! Findet statt! ohne Anmeld
 ung! Einfach vorbeikommen!
END:VEVENT
END:VCALENDAR
