BEGIN:VCALENDAR
VERSION:2.0
PRODID:icalendar-ruby
CALSCALE:GREGORIAN
BEGIN:VEVENT
DTSTAMP:20260420T071637Z
UID:486462a7-aeaa-4603-b6ec-6eb8a2b64f02
DTSTART:20260514T110000
DTEND:20260514T170000
DESCRIPTION: \nTrödelmarkt bei famila in Bramsche!\n \n \nAufbau ab 7Uh
 r \nPlatz vergabe ab 6Uhr\n 
LOCATION:Meyers Tannen 2 49565 
SUMMARY:famila
END:VEVENT
END:VCALENDAR
