BEGIN:VCALENDAR
VERSION:2.0
PRODID:icalendar-ruby
CALSCALE:GREGORIAN
BEGIN:VEVENT
DTSTAMP:20260420T033230Z
UID:862cb536-92a1-4960-b2a9-0eca59fbbee6
DTSTART:20260712T110000
DTEND:20260712T170000
DESCRIPTION: \nTrödelmarkt bei famila in Bramsche!\n \n \nAufbau ab 7Uh
 r \nPlatz vergabe ab 6Uhr\n 
LOCATION:Meyers Tannen 2 49565 
SUMMARY:famila
END:VEVENT
END:VCALENDAR
