BEGIN:VCALENDAR
VERSION:2.0
PRODID:icalendar-ruby
CALSCALE:GREGORIAN
BEGIN:VEVENT
DTSTAMP:20260420T051414Z
UID:db553e95-ff33-4c70-905f-ea69112f9256
DTSTART:20261031T110000
DTEND:20261031T170000
DESCRIPTION: \nTrödelmarkt bei famila in Bramsche!\n \n \nAufbau ab 7Uh
 r \nPlatz vergabe ab 6Uhr\n 
LOCATION:Meyers Tannen 2 49565 
SUMMARY:famila
END:VEVENT
END:VCALENDAR
