BEGIN:VCALENDAR
VERSION:2.0
PRODID:icalendar-ruby
CALSCALE:GREGORIAN
BEGIN:VEVENT
DTSTAMP:20260421T111455Z
UID:53589d98-78c0-4b0a-8951-1837d9eb75b2
DTSTART:20260927T080000
DTEND:20260927T160000
DESCRIPTION:Nach 14 Jahren im Simson Gewerbepark Suhl ziehen wir um auf den
  Segelflugplatz Suhl Goldlauter. Mehr Platz\, mehr Oldies\, mehr Besucherp
 arkplätze. Thüringens größter Freiluft-Oldtimermarkt braucht einfach m
 ehr Platz. Der Segelflugplatz ist  das ideale Gelände um dich ordentlich
  zu vergrößern und lockt Händler mit hunderttausenden Raritäten an. Je
 de Menge Kleinkram von der Pedale bis hin zur alten Motorrevue. Alles was 
 das Herz von Sammlern und Bastlern begehrt\, Benzingespräche inklusive. B
 eim typenoffenem Treffen gibt es Kfz-Veteranen jeglicher Couleur zu bestau
 nen. Nun können endlich mehr als 500 Oldtimer anreisen und machen den „
 rostigen“ Teilemarkt mit „Chromglänzenden“ Komplettfahrzeugen auch 
 für Kind &amp\; Kegel sehenswert. Oldtimermarkt Suhl – Ein Muss für Li
 ebhaber historischer Zwei- und Vierräder. Jeder kann mitmachen.\nKeine An
 meldung nötig!
LOCATION:Bocksbergstraße  98528 Goldlauter Heidersbach
SUMMARY:Oldtimer-Teilemarkt mit Oldtimertreffen Suhl / Segelflugplatz
END:VEVENT
END:VCALENDAR
