BEGIN:VCALENDAR
VERSION:2.0
PRODID:icalendar-ruby
CALSCALE:GREGORIAN
BEGIN:VEVENT
DTSTAMP:20260419T205331Z
UID:3b28ad7d-884c-42f9-90b2-3a80a4aa539b
DTSTART:20261017T100000
DTEND:20261017T160000
DESCRIPTION:Flohmarkt Dultplatz Regensburg\n13.03-15.03.2026\n16.10-18.10.2
 026\n07.11-08.11.2026\nTelefonische Reservierungen nicht möglich nur pers
 önlich und vor Ort!!!!\nlfm. 8\,00 €\nAbsolutes Neuwaren VERBOT\nTermin
 e unter Vorbehalt\, Änderungen auf Marktcom.de oder anrufen!\nFa. Schmid\
 nTelefon: 0176-43002565 oder 0175-2118010
LOCATION:Dultplatz 93059 
SUMMARY:Dultplatz Flohmarkt
END:VEVENT
END:VCALENDAR
